BEGIN:VCALENDAR
VERSION:2.0
PRODID:-//Tam ti delam - ECPv6.0.6.2//NONSGML v1.0//EN
CALSCALE:GREGORIAN
METHOD:PUBLISH
X-ORIGINAL-URL:https://www.tamtidelam.ca
X-WR-CALDESC:Events for Tam ti delam
REFRESH-INTERVAL;VALUE=DURATION:PT1H
X-Robots-Tag:noindex
X-PUBLISHED-TTL:PT1H
BEGIN:VTIMEZONE
TZID:America/Toronto
BEGIN:DAYLIGHT
TZOFFSETFROM:-0500
TZOFFSETTO:-0400
TZNAME:EDT
DTSTART:20240310T070000
END:DAYLIGHT
BEGIN:STANDARD
TZOFFSETFROM:-0400
TZOFFSETTO:-0500
TZNAME:EST
DTSTART:20241103T060000
END:STANDARD
END:VTIMEZONE
BEGIN:VEVENT
DTSTART;TZID=America/Toronto:20240525T190000
DTEND;TZID=America/Toronto:20240526T140000
DTSTAMP:20260420T221638
CREATED:20240507T010044Z
LAST-MODIFIED:20240507T014412Z
UID:10000048-1716663600-1716732000@www.tamtidelam.ca
SUMMARY:Spectacle annuel 2024  - Transmission
DESCRIPTION:L’Ensemble folklorique Tam ti delam présente son spectacle annuel 2024\n« Transmission » à la Salle Jean-Marc-Dion \nSamedi 25 mai à 19h\nDimanche 26 mai à 14h \nAdulte: 25$ | Étudiant: 15$ \n 
URL:https://www.tamtidelam.ca/event/spectacle-annuel-2024-transmission/
LOCATION:Spectacle annuel 2025 – Moi
ATTACH;FMTTYPE=image/jpeg:https://www.tamtidelam.ca/wp-content/uploads/2024/05/Transmission.jpg
END:VEVENT
END:VCALENDAR